BEGIN:VCALENDAR
VERSION:2.0
PRODID:-//sebbo.net//ical-generator//EN
BEGIN:VEVENT
UID:43d7ae23-3267-4718-af0e-4e4aa6de5aaf
SEQUENCE:0
DTSTAMP:20260424T074755Z
DTSTART:20260822T150000Z
DTEND:20260822T190000Z
SUMMARY:KRAFTKLUB - „Sterben in Karl-Marx-Stadt“ Open Airs 2026 - Berl
 in - Parkbühne Wuhlheide
LOCATION:Parkbühne Wuhlheide\, Straße zum FEZ 4-6\, 12459 Berlin\, Deuts
 chland
DESCRIPTION:Einlass: 17:00 Uhr\, Beginn: 19:00
END:VEVENT
END:VCALENDAR