BEGIN:VCALENDAR
VERSION:2.0
PRODID:-//sebbo.net//ical-generator//EN
BEGIN:VEVENT
UID:f8baea07-752a-48f5-9953-6a6fb4c388ef
SEQUENCE:0
DTSTAMP:20260424T074755Z
DTSTART:20260703T150000Z
DTEND:20260703T200000Z
SUMMARY:KRAFTKLUB - "Sterben in Karl-Marx-Stadt" Open Airs 2026 - Mönchen
 gladbach - SparkassenPark
LOCATION:SparkassenPark\, Am Hockeypark 1\, 41179 Mönchengladbach\, Deuts
 chland
DESCRIPTION:Einlass: 17:00 Uhr\, Beginn: 19:00
END:VEVENT
END:VCALENDAR